BEGIN:VCALENDAR
VERSION:2.0
PRODID:89812
METHOD:PUBLISH
BEGIN:VTIMEZONE
TZID:Europe/Berlin
TZURL:http://tzurl.org/zoneinfo-outlook/Europe/Berlin
X-LIC-LOCATION:Europe/Berlin
BEGIN:DAYLIGHT
TZOFFSETFROM:+0100
TZOFFSETTO:+0200
TZNAME:CEST
DTSTART:19700329T020000
RRULE:FREQ=YEARLY;BYMONTH=3;BYDAY=-1SU
END:DAYLIGHT
BEGIN:STANDARD
TZOFFSETFROM:+0200
TZOFFSETTO:+0100
TZNAME:CET
DTSTART:19701025T030000
RRULE:FREQ=YEARLY;BYMONTH=10;BYDAY=-1SU
END:STANDARD
END:VTIMEZONE
BEGIN:VEVENT
UID:147036
LOCATION:* Kirche Zarrentin
	* Kirchplatz 
	* 19246 Zarrentin am Schaalsee
SUMMARY:Aufführung zum 2. Zarrentiner Museumstag (Sänger und
Sängerinnen gesucht!)Sie haben Lust mit ihren Kindern oder Enkeln zu
singen. Dann schließen Sie sich unserem Mehr-Generationen-Chor an.
Aufführung am 2. Zarrentiner Museumstag
DESCRIPTION:Schauen Sie einfach bei der Probe im Gemeindehaus vorbei: 04.03.,
11.03., 18.03., 25.03., 15.04., 22.04., 29.04. 06.05. 13.05.
(Generalprobe) Weitere Infos: Marion Fürst (marion.fuerst@web.de
CLASS:PUBLIC
DTSTART:20260517T090000Z
DTEND:20260517T100000Z
DTSTAMP:20260517T090000Z
URL:https://www.kirche-mv.de/veranstaltung/147036
GEO:53.5538946,10.9177256
END:VEVENT
END:VCALENDAR
