BEGIN:VCALENDAR
VERSION:2.0
PRODID:89812
METHOD:PUBLISH
BEGIN:VTIMEZONE
TZID:Europe/Berlin
TZURL:http://tzurl.org/zoneinfo-outlook/Europe/Berlin
X-LIC-LOCATION:Europe/Berlin
BEGIN:DAYLIGHT
TZOFFSETFROM:+0100
TZOFFSETTO:+0200
TZNAME:CEST
DTSTART:19700329T020000
RRULE:FREQ=YEARLY;BYMONTH=3;BYDAY=-1SU
END:DAYLIGHT
BEGIN:STANDARD
TZOFFSETFROM:+0200
TZOFFSETTO:+0100
TZNAME:CET
DTSTART:19701025T030000
RRULE:FREQ=YEARLY;BYMONTH=10;BYDAY=-1SU
END:STANDARD
END:VTIMEZONE
BEGIN:VEVENT
UID:147035
LOCATION:in Zarrentiner Gemeindehaus
SUMMARY:2. Kinder-Musik-Freizeit (17.08. bis 21.08.)für Kinder im
Alter von 7-11 Jahren
DESCRIPTION:Thema: Leben des Franz von Assisi Wir studieren das Musical
\"Franziskus\" von Andreas Hantke Aufführung am 21.08.2026 um 16:00
Uhr in der Klosterkirche (50 EUR pro Kind für Material und
Verpflegung) Fragen oder Anmeldung: Marion Fürst
(marion.fuerst@elkm.de) Anmeldung bis 30.04.2026
CLASS:PUBLIC
DTSTART:20260817T090000Z
DTEND:20260817T100000Z
DTSTAMP:20260817T090000Z
URL:https://www.kirche-mv.de/veranstaltung/147035
END:VEVENT
END:VCALENDAR
