BEGIN:VCALENDAR
VERSION:2.0
PRODID:89812
METHOD:PUBLISH
BEGIN:VTIMEZONE
TZID:Europe/Berlin
TZURL:http://tzurl.org/zoneinfo-outlook/Europe/Berlin
X-LIC-LOCATION:Europe/Berlin
BEGIN:DAYLIGHT
TZOFFSETFROM:+0100
TZOFFSETTO:+0200
TZNAME:CEST
DTSTART:19700329T020000
RRULE:FREQ=YEARLY;BYMONTH=3;BYDAY=-1SU
END:DAYLIGHT
BEGIN:STANDARD
TZOFFSETFROM:+0200
TZOFFSETTO:+0100
TZNAME:CET
DTSTART:19701025T030000
RRULE:FREQ=YEARLY;BYMONTH=10;BYDAY=-1SU
END:STANDARD
END:VTIMEZONE
BEGIN:VEVENT
UID:144200
LOCATION:* Kirche Trollenhagen
	* Kirchstraße 
	* 17039 Trollenhagen
SUMMARY:Gottesdienstmit Pastor Albrecht
DESCRIPTION:
CLASS:PUBLIC
DTSTART:20260503T080000Z
DTEND:20260503T090000Z
DTSTAMP:20260503T080000Z
URL:https://www.kirche-mv.de/veranstaltung/144200
GEO:53.605875122573,13.290195900608
ORGANIZER:KG Neubrandenburg, Ortsausschuss Staven
END:VEVENT
END:VCALENDAR
