BEGIN:VCALENDAR
VERSION:2.0
PRODID:89812
METHOD:PUBLISH
BEGIN:VTIMEZONE
TZID:Europe/Berlin
TZURL:http://tzurl.org/zoneinfo-outlook/Europe/Berlin
X-LIC-LOCATION:Europe/Berlin
BEGIN:DAYLIGHT
TZOFFSETFROM:+0100
TZOFFSETTO:+0200
TZNAME:CEST
DTSTART:19700329T020000
RRULE:FREQ=YEARLY;BYMONTH=3;BYDAY=-1SU
END:DAYLIGHT
BEGIN:STANDARD
TZOFFSETFROM:+0200
TZOFFSETTO:+0100
TZNAME:CET
DTSTART:19701025T030000
RRULE:FREQ=YEARLY;BYMONTH=10;BYDAY=-1SU
END:STANDARD
END:VTIMEZONE
BEGIN:VEVENT
UID:149318
LOCATION:* Dom
	* Am Dom 
	* 19055 Schwerin
SUMMARY:Gottesdienst zur Ordination (Ehepaar Bertram)Gemeinsamer
Gottesdienst der Dom- und Schloßkirchengemeinde
DESCRIPTION:
CLASS:PUBLIC
DTSTART:20260531T140000Z
DTEND:20260531T150000Z
DTSTAMP:20260531T140000Z
URL:https://www.kirche-mv.de/veranstaltung/149318
GEO:53.6293613,11.4151645
END:VEVENT
END:VCALENDAR
