BEGIN:VCALENDAR
VERSION:2.0
PRODID:89812
METHOD:PUBLISH
BEGIN:VTIMEZONE
TZID:Europe/Berlin
TZURL:http://tzurl.org/zoneinfo-outlook/Europe/Berlin
X-LIC-LOCATION:Europe/Berlin
BEGIN:DAYLIGHT
TZOFFSETFROM:+0100
TZOFFSETTO:+0200
TZNAME:CEST
DTSTART:19700329T020000
RRULE:FREQ=YEARLY;BYMONTH=3;BYDAY=-1SU
END:DAYLIGHT
BEGIN:STANDARD
TZOFFSETFROM:+0200
TZOFFSETTO:+0100
TZNAME:CET
DTSTART:19701025T030000
RRULE:FREQ=YEARLY;BYMONTH=10;BYDAY=-1SU
END:STANDARD
END:VTIMEZONE
BEGIN:VEVENT
UID:149316
LOCATION:* Freilichtmuseum Mueß
	* Zum Alten Bauernhof 
	* 19063 Schwerin
SUMMARY:Himmelfahrt im Freilichtmuseum MueßGemeinsamer Gottesdienst
von Schelf- und Schloßkirchengemeinde
DESCRIPTION:Silke Draeger Nach dem Gottesdienst laden wir ganz herzlich zu einem
gemeinsamen Picknick ein. Es ist Kaffee gekocht - bringen Sie dazu
gerne Kuchen mit. Außerdem gibt es von der Schelfkirchengemeinde
wieder einen Eintopf. Wenn Sie Lust haben, können Sie auch noch das
Museum besuchen, Eis essen oder an der Reppiner Burg baden gehen.
CLASS:PUBLIC
DTSTART:20260514T100000Z
DTEND:20260514T110000Z
DTSTAMP:20260514T100000Z
URL:https://www.kirche-mv.de/veranstaltung/149316
GEO:53.6010586,11.480083876769
END:VEVENT
END:VCALENDAR
