BEGIN:VCALENDAR
VERSION:2.0
PRODID:89812
METHOD:PUBLISH
BEGIN:VTIMEZONE
TZID:Europe/Berlin
TZURL:http://tzurl.org/zoneinfo-outlook/Europe/Berlin
X-LIC-LOCATION:Europe/Berlin
BEGIN:DAYLIGHT
TZOFFSETFROM:+0100
TZOFFSETTO:+0200
TZNAME:CEST
DTSTART:19700329T020000
RRULE:FREQ=YEARLY;BYMONTH=3;BYDAY=-1SU
END:DAYLIGHT
BEGIN:STANDARD
TZOFFSETFROM:+0200
TZOFFSETTO:+0100
TZNAME:CET
DTSTART:19701025T030000
RRULE:FREQ=YEARLY;BYMONTH=10;BYDAY=-1SU
END:STANDARD
END:VTIMEZONE
BEGIN:VEVENT
UID:140771
LOCATION:* GemeindeChorHaus
	* Tiergartenallee 4
	* 18059 Rostock
SUMMARY:"Feierabend" - kreativer Gottesdienst im GemeindeChorHausDie
Abendgottesdienste in unserem GemeindeChorHaus mit moderner Musik und
kreativen Elementen wie Interviews, Kurzfilme und Gesprächszeiten
wollen auch Leute ansprechen, die mit unseren normalen
Sonntagsgottesdiensten nichts anfangen können.
DESCRIPTION:
CLASS:PUBLIC
DTSTART:20260508T183000Z
DTEND:20260508T193000Z
DTSTAMP:20260508T183000Z
URL:https://www.kirche-mv.de/veranstaltung/140771
GEO:54.080009412818,12.098195570608
END:VEVENT
END:VCALENDAR
