BEGIN:VCALENDAR
VERSION:2.0
PRODID:89812
METHOD:PUBLISH
BEGIN:VTIMEZONE
TZID:Europe/Berlin
TZURL:http://tzurl.org/zoneinfo-outlook/Europe/Berlin
X-LIC-LOCATION:Europe/Berlin
BEGIN:DAYLIGHT
TZOFFSETFROM:+0100
TZOFFSETTO:+0200
TZNAME:CEST
DTSTART:19700329T020000
RRULE:FREQ=YEARLY;BYMONTH=3;BYDAY=-1SU
END:DAYLIGHT
BEGIN:STANDARD
TZOFFSETFROM:+0200
TZOFFSETTO:+0100
TZNAME:CET
DTSTART:19701025T030000
RRULE:FREQ=YEARLY;BYMONTH=10;BYDAY=-1SU
END:STANDARD
END:VTIMEZONE
BEGIN:VEVENT
UID:110504
LOCATION:* Schifferkirche Ahrenshoop
	* Paetowweg 
	* 18347 Ahrenshoop
SUMMARY:Wellentanz
DESCRIPTION:Der Weimarer Gitarrist, Komponist und Klangkünstler Falk Zenker
wurde unlängst von der Fachzeitschrift Akustik Gitarre zu einem
„der kreativsten Nylongitarristen des Landes“ gekürt. Seit
mittlerweile drei Dekaden begeistert er mit seinem virtuosen
Gitarrenspiel zwischen Mittelalter, Klassik, Flamenco,
Weltmusikmoderne, Improvisation und live geloopten Beats Publikum und
Kritiker immer wieder aufs Neue. So schrieb beispielsweise das
Jazzpodium über ihn: „Er ist ein Klangtüftler und Brückenbauer
der besonderen Art, klassisch geschult und gesegnet mit der Gabe,
immer wieder auf sensible, stilvolle und ganz eigene Weise
Verbindungen zwischen Räumen und Zeiten zu erschaffen, wie nur er
das kann - liebenswert, weltbürgerlich, typisch Zenker und sehr,
sehr schön.“ Aktuell spielt und improvisiert Zenker Musik seiner
letzten drei Alben Estampie, Falkenflug und Wellentanz und neues noch
unveröffentlichtes Material. Mit raffiniertem Live-Looping
vervielfältigt er dabei ab und an sein Gitarrenspiel zu
orchestral-pulsierenden Klanglandschaften, das er als erster deutscher
Akustikgitarrist seit 1997 auf der Bühne zelebriert. Falk Zenker
verspricht ein inspirierendes Konzerterlebnis, in dem er Räume
schafft für schwereloses Träumen, atemberaubende Höhenflüge,
heiter-kreative Gedankensprünge und für die Begegnung mit sich
selbst.
CLASS:PUBLIC
DTSTART:20240612T190000Z
DTEND:20240612T200000Z
DTSTAMP:20240612T190000Z
URL:https://www.kirche-mv.de/veranstaltung/110504
GEO:54.382531835075,12.425113320351
ORGANIZER:KG Prerow
END:VEVENT
END:VCALENDAR
