BEGIN:VCALENDAR
VERSION:2.0
PRODID:89812
METHOD:PUBLISH
BEGIN:VTIMEZONE
TZID:Europe/Berlin
TZURL:http://tzurl.org/zoneinfo-outlook/Europe/Berlin
X-LIC-LOCATION:Europe/Berlin
BEGIN:DAYLIGHT
TZOFFSETFROM:+0100
TZOFFSETTO:+0200
TZNAME:CEST
DTSTART:19700329T020000
RRULE:FREQ=YEARLY;BYMONTH=3;BYDAY=-1SU
END:DAYLIGHT
BEGIN:STANDARD
TZOFFSETFROM:+0200
TZOFFSETTO:+0100
TZNAME:CET
DTSTART:19701025T030000
RRULE:FREQ=YEARLY;BYMONTH=10;BYDAY=-1SU
END:STANDARD
END:VTIMEZONE
BEGIN:VEVENT
UID:149469
LOCATION:* Seemannskirche Prerow
	* Kirchenort 
	* 18375 Prerow
SUMMARY:Duo Mundstücke - Vom Lieben
DESCRIPTION:"Tausende Herzschläge, nichts, ein Herzschlag später -
Funkenflug..." Die Liebe kann uns tragen, lässt uns über uns
hinauswachsen, wir fühlen uns lebendig, sie gibt uns Kraft und
Energie. Die Liebe führt uns aber auch zum scheitern, zu unerfüllter
Sehnsucht, Leid, Schmerz, Verzweiflung. Dann nimmt sie uns die Kraft
und raubt Energie
CLASS:PUBLIC
DTSTART:20260428T190000Z
DTEND:20260428T200000Z
DTSTAMP:20260428T190000Z
URL:https://www.kirche-mv.de/veranstaltung/149469
GEO:54.447679331129,12.58258572727
END:VEVENT
END:VCALENDAR
