BEGIN:VCALENDAR
VERSION:2.0
PRODID:89812
METHOD:PUBLISH
BEGIN:VTIMEZONE
TZID:Europe/Berlin
TZURL:http://tzurl.org/zoneinfo-outlook/Europe/Berlin
X-LIC-LOCATION:Europe/Berlin
BEGIN:DAYLIGHT
TZOFFSETFROM:+0100
TZOFFSETTO:+0200
TZNAME:CEST
DTSTART:19700329T020000
RRULE:FREQ=YEARLY;BYMONTH=3;BYDAY=-1SU
END:DAYLIGHT
BEGIN:STANDARD
TZOFFSETFROM:+0200
TZOFFSETTO:+0100
TZNAME:CET
DTSTART:19701025T030000
RRULE:FREQ=YEARLY;BYMONTH=10;BYDAY=-1SU
END:STANDARD
END:VTIMEZONE
BEGIN:VEVENT
UID:145460
LOCATION:* Kirche Mestlin
	* Goldberger Straße 5a
	* 19374 Mestlin
SUMMARY:Pfingstkonzert mit der Sopranistin Anna-Charlotte Kersten
DESCRIPTION:Eintritt 15 €
CLASS:PUBLIC
DTSTART:20260523T160000Z
DTEND:20260523T170000Z
DTSTAMP:20260523T160000Z
URL:https://www.kirche-mv.de/veranstaltung/145460
GEO:53.5816066,11.9292753
ORGANIZER:Kirchengemeinde Mestlin-Techentin-Kladrum
END:VEVENT
END:VCALENDAR
