BEGIN:VCALENDAR
VERSION:2.0
PRODID:89812
METHOD:PUBLISH
BEGIN:VTIMEZONE
TZID:Europe/Berlin
TZURL:http://tzurl.org/zoneinfo-outlook/Europe/Berlin
X-LIC-LOCATION:Europe/Berlin
BEGIN:DAYLIGHT
TZOFFSETFROM:+0100
TZOFFSETTO:+0200
TZNAME:CEST
DTSTART:19700329T020000
RRULE:FREQ=YEARLY;BYMONTH=3;BYDAY=-1SU
END:DAYLIGHT
BEGIN:STANDARD
TZOFFSETFROM:+0200
TZOFFSETTO:+0100
TZNAME:CET
DTSTART:19701025T030000
RRULE:FREQ=YEARLY;BYMONTH=10;BYDAY=-1SU
END:STANDARD
END:VTIMEZONE
BEGIN:VEVENT
UID:145381
LOCATION:* Kirche Ruest
	* Ruester Dorfstraße 
	* 19374 Mestlin
SUMMARY:Gemeinsamer musikalischer Gottesdienst an Himmelfahrt mit
anschließender Kaffeetafel
DESCRIPTION:Ruest. Im vergangenen Jahr sind wir nach Hohen Pritz ausgewichen. Auch
dort war es schön und festlich, aber in diesem Jahr nehmen wir die
Tradition wieder auf und treffen uns an Himmelfahrt um 14:00 Uhr unter
den alten Bäumen der Ruester Kirche, um gemeinsam Gottesdienst zu
feiern. Im Anschluss können wir uns hoffentlich bei schönstem Wetter
an den Tischen niederlassen, um die mitgebrachten Leckereien zu
genießen und zu plaudern. (Janet Bellin)
CLASS:PUBLIC
DTSTART:20260514T090000Z
DTEND:20260514T100000Z
DTSTAMP:20260514T090000Z
URL:https://www.kirche-mv.de/veranstaltung/145381
GEO:53.614964518711,11.943866014481
ORGANIZER:Kirchengemeinden der Region "Kirchen um Goldberg"
END:VEVENT
END:VCALENDAR
