BEGIN:VCALENDAR
VERSION:2.0
PRODID:89812
METHOD:PUBLISH
BEGIN:VTIMEZONE
TZID:Europe/Berlin
TZURL:http://tzurl.org/zoneinfo-outlook/Europe/Berlin
X-LIC-LOCATION:Europe/Berlin
BEGIN:DAYLIGHT
TZOFFSETFROM:+0100
TZOFFSETTO:+0200
TZNAME:CEST
DTSTART:19700329T020000
RRULE:FREQ=YEARLY;BYMONTH=3;BYDAY=-1SU
END:DAYLIGHT
BEGIN:STANDARD
TZOFFSETFROM:+0200
TZOFFSETTO:+0100
TZNAME:CET
DTSTART:19701025T030000
RRULE:FREQ=YEARLY;BYMONTH=10;BYDAY=-1SU
END:STANDARD
END:VTIMEZONE
BEGIN:VEVENT
UID:145458
LOCATION:* Kirche Below
	* Kurze Straße 
	* 19399 Below
SUMMARY:Konzert zum Lindenfest mit dem Kiever Orgeltrio unter der
Leitung von Prof. Ortwin Benninghoff
DESCRIPTION:
CLASS:PUBLIC
DTSTART:20260516T160000Z
DTEND:20260516T170000Z
DTSTAMP:20260516T160000Z
URL:https://www.kirche-mv.de/veranstaltung/145458
GEO:53.611400282827,11.986159086227
ORGANIZER:Kirchengemeinde Mestlin-Techentin-Kladrum
END:VEVENT
END:VCALENDAR
