BEGIN:VCALENDAR
VERSION:2.0
PRODID:89812
METHOD:PUBLISH
BEGIN:VTIMEZONE
TZID:Europe/Berlin
TZURL:http://tzurl.org/zoneinfo-outlook/Europe/Berlin
X-LIC-LOCATION:Europe/Berlin
BEGIN:DAYLIGHT
TZOFFSETFROM:+0100
TZOFFSETTO:+0200
TZNAME:CEST
DTSTART:19700329T020000
RRULE:FREQ=YEARLY;BYMONTH=3;BYDAY=-1SU
END:DAYLIGHT
BEGIN:STANDARD
TZOFFSETFROM:+0200
TZOFFSETTO:+0100
TZNAME:CET
DTSTART:19701025T030000
RRULE:FREQ=YEARLY;BYMONTH=10;BYDAY=-1SU
END:STANDARD
END:VTIMEZONE
BEGIN:VEVENT
UID:144678
LOCATION:* Ev. Pfarrhaus Marlow
	* Bei der Kirche 9
	* 18337 Marlow
SUMMARY:Kinder Treff im PfarrhausGeschichten hören, spielen, kochen,
Filme schauen
DESCRIPTION:Ein fröhliches Angebot für Kinder im Alter von 8 bis 11 Jahren, alle
sind herzlich willkommen.
CLASS:PUBLIC
DTSTART:20260424T133000Z
DTEND:20260424T143000Z
DTSTAMP:20260424T133000Z
URL:https://www.kirche-mv.de/veranstaltung/144678
GEO:54.15413925,12.571727978022
END:VEVENT
END:VCALENDAR
