BEGIN:VCALENDAR
VERSION:2.0
PRODID:89812
METHOD:PUBLISH
BEGIN:VTIMEZONE
TZID:Europe/Berlin
TZURL:http://tzurl.org/zoneinfo-outlook/Europe/Berlin
X-LIC-LOCATION:Europe/Berlin
BEGIN:DAYLIGHT
TZOFFSETFROM:+0100
TZOFFSETTO:+0200
TZNAME:CEST
DTSTART:19700329T020000
RRULE:FREQ=YEARLY;BYMONTH=3;BYDAY=-1SU
END:DAYLIGHT
BEGIN:STANDARD
TZOFFSETFROM:+0200
TZOFFSETTO:+0100
TZNAME:CET
DTSTART:19701025T030000
RRULE:FREQ=YEARLY;BYMONTH=10;BYDAY=-1SU
END:STANDARD
END:VTIMEZONE
BEGIN:VEVENT
UID:144692
LOCATION:* Ev. Pfarrhaus Marlow
	* Bei der Kirche 9
	* 18337 Marlow
SUMMARY:KrabbelgruppeUnser Angebot für die ganz jungen Familien
DESCRIPTION:Wir bieten immer Freitag 14 tägig einen entspannten Treffpunkt für
alle Eltern mit Kindern im Alter von 0-2 Jahren. Bei einem
gemütlichen Frühstück von 9.30 bis 11.00 Uhr ist viel Zeit für ein
gemeinsames Treffen in lockerer Atmosphäre. Es gibt keine
Voraussetzungen, jede und jeder ist herzlich willkommen. Sagen Sie es
gerne weiter und verabreden Sie sich zur Krabbelgruppe im
evangelischen Pfarrhaus Marlow.
CLASS:PUBLIC
DTSTART:20260424T083000Z
DTEND:20260424T100000Z
DTSTAMP:20260424T083000Z
URL:https://www.kirche-mv.de/veranstaltung/144692
GEO:54.15413925,12.571727978022
END:VEVENT
END:VCALENDAR
