BEGIN:VCALENDAR
VERSION:2.0
PRODID:89812
METHOD:PUBLISH
BEGIN:VTIMEZONE
TZID:Europe/Berlin
TZURL:http://tzurl.org/zoneinfo-outlook/Europe/Berlin
X-LIC-LOCATION:Europe/Berlin
BEGIN:DAYLIGHT
TZOFFSETFROM:+0100
TZOFFSETTO:+0200
TZNAME:CEST
DTSTART:19700329T020000
RRULE:FREQ=YEARLY;BYMONTH=3;BYDAY=-1SU
END:DAYLIGHT
BEGIN:STANDARD
TZOFFSETFROM:+0200
TZOFFSETTO:+0100
TZNAME:CET
DTSTART:19701025T030000
RRULE:FREQ=YEARLY;BYMONTH=10;BYDAY=-1SU
END:STANDARD
END:VTIMEZONE
BEGIN:VEVENT
UID:145412
LOCATION:* Landeskirchliche Gemeinschaft
	* Salzstraße 54
	* 19249 Lübtheen
SUMMARY:Gemeinschaftsstundeab 15 Uhr Kaffee und Kuchen
DESCRIPTION:
CLASS:PUBLIC
DTSTART:20260531T150000Z
DTEND:20260531T160000Z
DTSTAMP:20260531T150000Z
URL:https://www.kirche-mv.de/veranstaltung/145412
GEO:53.2981267,11.0908921
END:VEVENT
END:VCALENDAR
