BEGIN:VCALENDAR
VERSION:2.0
PRODID:89812
METHOD:PUBLISH
BEGIN:VTIMEZONE
TZID:Europe/Berlin
TZURL:http://tzurl.org/zoneinfo-outlook/Europe/Berlin
X-LIC-LOCATION:Europe/Berlin
BEGIN:DAYLIGHT
TZOFFSETFROM:+0100
TZOFFSETTO:+0200
TZNAME:CEST
DTSTART:19700329T020000
RRULE:FREQ=YEARLY;BYMONTH=3;BYDAY=-1SU
END:DAYLIGHT
BEGIN:STANDARD
TZOFFSETFROM:+0200
TZOFFSETTO:+0100
TZNAME:CET
DTSTART:19701025T030000
RRULE:FREQ=YEARLY;BYMONTH=10;BYDAY=-1SU
END:STANDARD
END:VTIMEZONE
BEGIN:VEVENT
UID:149735
LOCATION:* Dorfkirche Lichtenhagen
	* Admannshäger Weg 
	* 18107 Lichtenhagen Dorf
SUMMARY:Geistliche BläsermusikDas \"Kleingemüse MV\", also die
Jüngste Bläsergruppe des Posaunenwerkes Mecklenburg ist unter
Leitung von Landesposaunenwart Martin Huss in der Dorfkirche zu Gast.
Eintritt frei, um Spenden wird gebeten.
DESCRIPTION:Es ist schon eine gute Tradition geworden, dass Landesposaunenwart
Martin Huss jedes Jahr am Pfingstmontag mit einer seiner
Bläsergruppen bei uns zu Besuch ist. Diesmal dürfen wir die
Jüngsten, das \"Kleingemüse\" erleben. Herzliche Einladung zu diesem
immer erfrischenden musikalischen Erlebnis!
CLASS:PUBLIC
DTSTART:20260525T160000Z
DTEND:20260525T170000Z
DTSTAMP:20260525T160000Z
URL:https://www.kirche-mv.de/veranstaltung/149735
GEO:54.140825841171,12.030598008136
ORGANIZER:Kantorei Lichtenhagen
END:VEVENT
END:VCALENDAR
