BEGIN:VCALENDAR
VERSION:2.0
PRODID:89812
METHOD:PUBLISH
BEGIN:VTIMEZONE
TZID:Europe/Berlin
TZURL:http://tzurl.org/zoneinfo-outlook/Europe/Berlin
X-LIC-LOCATION:Europe/Berlin
BEGIN:DAYLIGHT
TZOFFSETFROM:+0100
TZOFFSETTO:+0200
TZNAME:CEST
DTSTART:19700329T020000
RRULE:FREQ=YEARLY;BYMONTH=3;BYDAY=-1SU
END:DAYLIGHT
BEGIN:STANDARD
TZOFFSETFROM:+0200
TZOFFSETTO:+0100
TZNAME:CET
DTSTART:19701025T030000
RRULE:FREQ=YEARLY;BYMONTH=10;BYDAY=-1SU
END:STANDARD
END:VTIMEZONE
BEGIN:VEVENT
UID:149379
LOCATION:* Dorfkirche Lichtenhagen
	* Admannshäger Weg 
	* 18107 Lichtenhagen Dorf
SUMMARY:MagnificatChorwerke a cappella von Palestrina, Pärt, Kverno,
Schütz, Gjieilo u. a.
DESCRIPTION:Motetten und a-capella- Gesänge aus verschiedenen Jahrhunderten,
darunter Vertonungen von Texten aus dem Hohelied Salomos und
marianischen Gesängen. Ausgeführt vom Kammerchorprojekt der
Kirchenregion Bad Doberan
CLASS:PUBLIC
DTSTART:20260426T160000Z
DTEND:20260426T170000Z
DTSTAMP:20260426T160000Z
URL:https://www.kirche-mv.de/veranstaltung/149379
GEO:54.140825841171,12.030598008136
ORGANIZER:Friedenskirchengemeinde Lichtenhagen
END:VEVENT
END:VCALENDAR
