BEGIN:VCALENDAR
VERSION:2.0
PRODID:89812
METHOD:PUBLISH
BEGIN:VTIMEZONE
TZID:Europe/Berlin
TZURL:http://tzurl.org/zoneinfo-outlook/Europe/Berlin
X-LIC-LOCATION:Europe/Berlin
BEGIN:DAYLIGHT
TZOFFSETFROM:+0100
TZOFFSETTO:+0200
TZNAME:CEST
DTSTART:19700329T020000
RRULE:FREQ=YEARLY;BYMONTH=3;BYDAY=-1SU
END:DAYLIGHT
BEGIN:STANDARD
TZOFFSETFROM:+0200
TZOFFSETTO:+0100
TZNAME:CET
DTSTART:19701025T030000
RRULE:FREQ=YEARLY;BYMONTH=10;BYDAY=-1SU
END:STANDARD
END:VTIMEZONE
BEGIN:VEVENT
UID:144383
LOCATION:* Mehrgenerationenhaus Lütten Klein
	* Danziger Straße 45d
	* 18107 Rostock
SUMMARY:Seniorennachmittag
DESCRIPTION:Es gibt Kaffee, Kuchen (ein herzliches Dankeschön an die
Altenhelferinnen, die ihn reihum backen!) und immer ein interessantes
Thema zu bereden.
CLASS:PUBLIC
DTSTART:20260505T133000Z
DTEND:20260505T153000Z
DTSTAMP:20260505T133000Z
URL:https://www.kirche-mv.de/veranstaltung/144383
GEO:54.1449819,12.0503746
END:VEVENT
END:VCALENDAR
