BEGIN:VCALENDAR
VERSION:2.0
PRODID:89812
METHOD:PUBLISH
BEGIN:VTIMEZONE
TZID:Europe/Berlin
TZURL:http://tzurl.org/zoneinfo-outlook/Europe/Berlin
X-LIC-LOCATION:Europe/Berlin
BEGIN:DAYLIGHT
TZOFFSETFROM:+0100
TZOFFSETTO:+0200
TZNAME:CEST
DTSTART:19700329T020000
RRULE:FREQ=YEARLY;BYMONTH=3;BYDAY=-1SU
END:DAYLIGHT
BEGIN:STANDARD
TZOFFSETFROM:+0200
TZOFFSETTO:+0100
TZNAME:CET
DTSTART:19701025T030000
RRULE:FREQ=YEARLY;BYMONTH=10;BYDAY=-1SU
END:STANDARD
END:VTIMEZONE
BEGIN:VEVENT
UID:149381
LOCATION:* Dorfkirche Lichtenhagen
	* Admannshäger Weg 
	* 18107 Lichtenhagen Dorf
SUMMARY:50 Jahre Jehmlich-Orgel LichtenhagenKonzert für Chor,
Streicher und Orgel zum Jubiläum
DESCRIPTION:Es erklingen Werke für Chor und Orgel von J. S. Bach, C. Franck, Chr.
Tambling u. a. Ausführende: Ökumenisches Chorprojekt Bad Doberan
Werner Koch - Orgel
CLASS:PUBLIC
DTSTART:20260628T160000Z
DTEND:20260628T170000Z
DTSTAMP:20260628T160000Z
URL:https://www.kirche-mv.de/veranstaltung/149381
GEO:54.140825841171,12.030598008136
ORGANIZER:Friedenskirchengemeinde Lichtenhagen
END:VEVENT
END:VCALENDAR
