BEGIN:VCALENDAR
VERSION:2.0
PRODID:89812
METHOD:PUBLISH
BEGIN:VTIMEZONE
TZID:Europe/Berlin
TZURL:http://tzurl.org/zoneinfo-outlook/Europe/Berlin
X-LIC-LOCATION:Europe/Berlin
BEGIN:DAYLIGHT
TZOFFSETFROM:+0100
TZOFFSETTO:+0200
TZNAME:CEST
DTSTART:19700329T020000
RRULE:FREQ=YEARLY;BYMONTH=3;BYDAY=-1SU
END:DAYLIGHT
BEGIN:STANDARD
TZOFFSETFROM:+0200
TZOFFSETTO:+0100
TZNAME:CET
DTSTART:19701025T030000
RRULE:FREQ=YEARLY;BYMONTH=10;BYDAY=-1SU
END:STANDARD
END:VTIMEZONE
BEGIN:VEVENT
UID:144420
LOCATION:* Pfarrscheune
	* Admannshäger Weg 3
	* 18107 Lichtenhagen Dorf
SUMMARY:Stricktreff
DESCRIPTION:Kennen Sie das SSS (second-sock-Syndrom)? Was ist ein italienischer
Anschlag und wird ein Muscheltuch tatsächlich aus echten Muscheln
hergestellt? Darüber klönen wir im Stricktreff, und in Gemeinschaft
entstehen dann zweite Socken oder Probestücke oder ein völlig neues
Muster.
CLASS:PUBLIC
DTSTART:20260424T160000Z
DTEND:20260424T170000Z
DTSTAMP:20260424T160000Z
URL:https://www.kirche-mv.de/veranstaltung/144420
GEO:54.14039945,12.029972776301
END:VEVENT
END:VCALENDAR
