BEGIN:VCALENDAR
VERSION:2.0
PRODID:89812
METHOD:PUBLISH
BEGIN:VTIMEZONE
TZID:Europe/Berlin
TZURL:http://tzurl.org/zoneinfo-outlook/Europe/Berlin
X-LIC-LOCATION:Europe/Berlin
BEGIN:DAYLIGHT
TZOFFSETFROM:+0100
TZOFFSETTO:+0200
TZNAME:CEST
DTSTART:19700329T020000
RRULE:FREQ=YEARLY;BYMONTH=3;BYDAY=-1SU
END:DAYLIGHT
BEGIN:STANDARD
TZOFFSETFROM:+0200
TZOFFSETTO:+0100
TZNAME:CET
DTSTART:19701025T030000
RRULE:FREQ=YEARLY;BYMONTH=10;BYDAY=-1SU
END:STANDARD
END:VTIMEZONE
BEGIN:VEVENT
UID:149380
LOCATION:* Pfarrscheune
	* Admannshäger Weg 3
	* 18107 Lichtenhagen Dorf
SUMMARY:Klavierkonzert mit Werken von Chopin, Schubert, Beethoven,
Pärt u. a.mit Christa Kern (Heidelberg)
DESCRIPTION:Klavierkonzert mit der vielseitigen Pianistin Christa Kern aus
Heidelberg. Programmfolge: Arvo Pärt. „Für Alina“ Joseph Haydn
Sonate Nr.47 h-Moll Maurice Ravel Menuet sur le nom d’Haydn
L.v.Beethoven 6 Variationen über ein eigenes Thema F- Dur op.34 Pause
Franz Schubert Impromptu Nr.4 as- Moll D 899 Franz Schubert Impromptu
Nr.3 F - Dur D 935 ( posth) Frederic Mompou Musica Callada Nr.1-5
Frederic Chopin Ballade Nr.2. F- Dur op.47
CLASS:PUBLIC
DTSTART:20260531T160000Z
DTEND:20260531T170000Z
DTSTAMP:20260531T160000Z
URL:https://www.kirche-mv.de/veranstaltung/149380
GEO:54.14039945,12.029972776301
ORGANIZER:Friedenskirchengemeinde Lichtenhagen
END:VEVENT
END:VCALENDAR
