BEGIN:VCALENDAR
VERSION:2.0
PRODID:89812
METHOD:PUBLISH
BEGIN:VTIMEZONE
TZID:Europe/Berlin
TZURL:http://tzurl.org/zoneinfo-outlook/Europe/Berlin
X-LIC-LOCATION:Europe/Berlin
BEGIN:DAYLIGHT
TZOFFSETFROM:+0100
TZOFFSETTO:+0200
TZNAME:CEST
DTSTART:19700329T020000
RRULE:FREQ=YEARLY;BYMONTH=3;BYDAY=-1SU
END:DAYLIGHT
BEGIN:STANDARD
TZOFFSETFROM:+0200
TZOFFSETTO:+0100
TZNAME:CET
DTSTART:19701025T030000
RRULE:FREQ=YEARLY;BYMONTH=10;BYDAY=-1SU
END:STANDARD
END:VTIMEZONE
BEGIN:VEVENT
UID:145989
LOCATION:* Stadtkirche Kröpelin
	* Am Kirchenplatz 
	* 18236 Kröpelin
SUMMARY:Konzert mit Ortwin BenninghoffEintritt frei - um eine Spende
zur Unterstützung ukrainischer Musiker:innen wird gebeten
DESCRIPTION:Unter der Leitung von Professor Ortwin Benninghoff wird das Kiever
Orgeltrio das Konzert „Brückenschläge“ mit folgenden
KünstlerInnen gestalten: Oksana Popsuy (Violine) Nataliia Vasylieva
(Violine) Ortwin Benninghoff (Orgel) Brücken bauen von Mensch zu
Mensch; nämlich Annäherung bzw. Verständigung in der Kommunikation
oder mittels Musik. Wie die letzten Jahre gezeigt haben, brauchen wir
diesen Brückenschlag mehr denn je, aber auch Brückenschläge
zwischen den Völkern. Sie sind wichtiger als je zuvor, wie die immer
noch andauernden und neuen Konflikte in der Welt zeigen. Im Zentrum
des neuen Programmes wird Musik von J.S. Bach stehen sowie Werke
ukrainischer Musikerinnen und Musiker.
CLASS:PUBLIC
DTSTART:20260517T160000Z
DTEND:20260517T173000Z
DTSTAMP:20260517T160000Z
URL:https://www.kirche-mv.de/veranstaltung/145989
GEO:54.07185832054,11.79527111234
ORGANIZER:Ev.-Lutherische Kirchengemeinde Kröpelin
END:VEVENT
END:VCALENDAR
