BEGIN:VCALENDAR
VERSION:2.0
PRODID:89812
METHOD:PUBLISH
BEGIN:VTIMEZONE
TZID:Europe/Berlin
TZURL:http://tzurl.org/zoneinfo-outlook/Europe/Berlin
X-LIC-LOCATION:Europe/Berlin
BEGIN:DAYLIGHT
TZOFFSETFROM:+0100
TZOFFSETTO:+0200
TZNAME:CEST
DTSTART:19700329T020000
RRULE:FREQ=YEARLY;BYMONTH=3;BYDAY=-1SU
END:DAYLIGHT
BEGIN:STANDARD
TZOFFSETFROM:+0200
TZOFFSETTO:+0100
TZNAME:CET
DTSTART:19701025T030000
RRULE:FREQ=YEARLY;BYMONTH=10;BYDAY=-1SU
END:STANDARD
END:VTIMEZONE
BEGIN:VEVENT
UID:145990
LOCATION:* Gemeindezentrum
	* Am Kirchenplatz 3
	* 18236 Kröpelin
SUMMARY:"Reden wir mal drüber" Vortrag zur Bundespolizeimit Ihren
Fragen im Anschluss
DESCRIPTION:Der Auftrag umfasst den Grenzschutz im nationalen und europäischen
Kontext, zu Land, im Luftverkehr und zur See. Es geht vor allem um
Gefahrenabwehr und Bekämpfung von Kriminalität. Ich freue mich,
Polizeioberrat a.D. Ralf Scheiner für diesen Vortrag begrüßen zu
dürfen. Als leitender Beamter (Inspektionsleiter in Rostock) hat er
über viele Jahre Erfahrungen in einem Bereich gemacht, der den
meisten von uns nur über Medien bekannt ist. An dem Abend werden auch
unsere Fragen Raum bekommen. Ein offener, unvoreingenommener Austausch
liegt uns sehr am Herzen. Also: Reden wir mal drüber!
CLASS:PUBLIC
DTSTART:20260520T180000Z
DTEND:20260520T193000Z
DTSTAMP:20260520T180000Z
URL:https://www.kirche-mv.de/veranstaltung/145990
GEO:54.0725036,11.7951015
ORGANIZER:Ev.-Lutherische Kirchengemeinde Kröpelin
END:VEVENT
END:VCALENDAR
