BEGIN:VCALENDAR
VERSION:2.0
PRODID:89812
METHOD:PUBLISH
BEGIN:VTIMEZONE
TZID:Europe/Berlin
TZURL:http://tzurl.org/zoneinfo-outlook/Europe/Berlin
X-LIC-LOCATION:Europe/Berlin
BEGIN:DAYLIGHT
TZOFFSETFROM:+0100
TZOFFSETTO:+0200
TZNAME:CEST
DTSTART:19700329T020000
RRULE:FREQ=YEARLY;BYMONTH=3;BYDAY=-1SU
END:DAYLIGHT
BEGIN:STANDARD
TZOFFSETFROM:+0200
TZOFFSETTO:+0100
TZNAME:CET
DTSTART:19701025T030000
RRULE:FREQ=YEARLY;BYMONTH=10;BYDAY=-1SU
END:STANDARD
END:VTIMEZONE
BEGIN:VEVENT
UID:145994
LOCATION:* Gemeindezentrum
	* Am Kirchenplatz 3
	* 18236 Kröpelin
SUMMARY:Familienkirche für die kleinen Kirchenmäuse
DESCRIPTION:Eingeladen sind alle Kleinen und Großen, die Lust haben, mit den
kleinen Kirchenmäusen einen „bewegten und fröhlichen
Mini-Gottesdienst“ zu erleben. Danach wird gespielt, gebastelt und
zusammen der Tisch für ein leckeres Abendessen gedeckt. Kommt vorbei
und macht mit – wir freuen uns auf euch!
CLASS:PUBLIC
DTSTART:20260508T150000Z
DTEND:20260508T170000Z
DTSTAMP:20260508T150000Z
URL:https://www.kirche-mv.de/veranstaltung/145994
GEO:54.0725036,11.7951015
END:VEVENT
END:VCALENDAR
