BEGIN:VCALENDAR
VERSION:2.0
PRODID:89812
METHOD:PUBLISH
BEGIN:VTIMEZONE
TZID:Europe/Berlin
TZURL:http://tzurl.org/zoneinfo-outlook/Europe/Berlin
X-LIC-LOCATION:Europe/Berlin
BEGIN:DAYLIGHT
TZOFFSETFROM:+0100
TZOFFSETTO:+0200
TZNAME:CEST
DTSTART:19700329T020000
RRULE:FREQ=YEARLY;BYMONTH=3;BYDAY=-1SU
END:DAYLIGHT
BEGIN:STANDARD
TZOFFSETFROM:+0200
TZOFFSETTO:+0100
TZNAME:CET
DTSTART:19701025T030000
RRULE:FREQ=YEARLY;BYMONTH=10;BYDAY=-1SU
END:STANDARD
END:VTIMEZONE
BEGIN:VEVENT
UID:149396
LOCATION:* Pfarrhaus Klinken
	* Hauptstraße 17
	* 19374 Klinken
SUMMARY:Pflanzentauschmarkt
DESCRIPTION:Pflanzentauschmarkt - Teilen, Tauschen, Wachsen Hast du zu viele
Ableger, Samen oder Pflanzen, die ein neues Zuhause suchen? Dann komm
von 10.oo-14.oo Uhr bei uns auf dem Pfarrhof vorbei. Tausche deine
Pflanze gegen neue Lieblingsstücke und lerne Gleichgesinnte kennen.
Auch ohne eigene Pflanzen bist du bei uns herzlich willkommen.
CLASS:PUBLIC
DTSTART:20260425T090000Z
DTEND:20260425T130000Z
DTSTAMP:20260425T090000Z
URL:https://www.kirche-mv.de/veranstaltung/149396
GEO:53.49524385,11.673086449589
ORGANIZER:Ev.-Luth. Kirchengemeinde Klinken
END:VEVENT
END:VCALENDAR
