BEGIN:VCALENDAR
VERSION:2.0
PRODID:89812
METHOD:PUBLISH
BEGIN:VTIMEZONE
TZID:Europe/Berlin
TZURL:http://tzurl.org/zoneinfo-outlook/Europe/Berlin
X-LIC-LOCATION:Europe/Berlin
BEGIN:DAYLIGHT
TZOFFSETFROM:+0100
TZOFFSETTO:+0200
TZNAME:CEST
DTSTART:19700329T020000
RRULE:FREQ=YEARLY;BYMONTH=3;BYDAY=-1SU
END:DAYLIGHT
BEGIN:STANDARD
TZOFFSETFROM:+0200
TZOFFSETTO:+0100
TZNAME:CET
DTSTART:19701025T030000
RRULE:FREQ=YEARLY;BYMONTH=10;BYDAY=-1SU
END:STANDARD
END:VTIMEZONE
BEGIN:VEVENT
UID:144560
LOCATION:* Kirche Lübsee
	* Bansower Straße 17
	* 18279 Lalendorf
SUMMARY:Kantate, Musikalischer Abendgottesdienst
DESCRIPTION:Musikalischer Abendgottesdienst Kantate Sie sind herzlich eingeladen
zu einem musikalischen Abendgottesdienst am Sonntag Kantate, dem 03.
Mai 2026, um 18:00 Uhr in Lübsee, mit unserem ökumenischen Chor
unter Leitung von Frau Waltraud May.
CLASS:PUBLIC
DTSTART:20260503T170000Z
DTEND:20260503T180000Z
DTSTAMP:20260503T170000Z
URL:https://www.kirche-mv.de/veranstaltung/144560
GEO:53.7324125,12.369396945
END:VEVENT
END:VCALENDAR
