BEGIN:VCALENDAR
VERSION:2.0
PRODID:89812
METHOD:PUBLISH
BEGIN:VTIMEZONE
TZID:Europe/Berlin
TZURL:http://tzurl.org/zoneinfo-outlook/Europe/Berlin
X-LIC-LOCATION:Europe/Berlin
BEGIN:DAYLIGHT
TZOFFSETFROM:+0100
TZOFFSETTO:+0200
TZNAME:CEST
DTSTART:19700329T020000
RRULE:FREQ=YEARLY;BYMONTH=3;BYDAY=-1SU
END:DAYLIGHT
BEGIN:STANDARD
TZOFFSETFROM:+0200
TZOFFSETTO:+0100
TZNAME:CET
DTSTART:19701025T030000
RRULE:FREQ=YEARLY;BYMONTH=10;BYDAY=-1SU
END:STANDARD
END:VTIMEZONE
BEGIN:VEVENT
UID:149784
LOCATION:* Pfarrhaus Klaber
	* Klaber 25
	* 18279 Lalendorf
SUMMARY:Teeniekreis
DESCRIPTION:Teenskreis Wir starten einen Teenskreis in Klaber. Wenn Du ab 11 Jahre
alt bist, Zeit für Spaß und Spiele magst, mit anderen gemeinsam
Gottes Liebe für Dich entdecken willst, dann bist Du hier genau
richtig! Termine Mai: 8. Mai ´26, 22. Mai, 5. Juni, 26. Juni Jeweils
von 17.30 – 20.30 Uhr, incl. Abendessen Ich freue mich auf Dich!
Claudia Milbich Flyer mit Canva erstellt.
CLASS:PUBLIC
DTSTART:20260508T163000Z
DTEND:20260508T173000Z
DTSTAMP:20260508T163000Z
URL:https://www.kirche-mv.de/veranstaltung/149784
GEO:53.720643,12.4707245
END:VEVENT
END:VCALENDAR
