BEGIN:VCALENDAR
VERSION:2.0
PRODID:89812
METHOD:PUBLISH
BEGIN:VTIMEZONE
TZID:Europe/Berlin
TZURL:http://tzurl.org/zoneinfo-outlook/Europe/Berlin
X-LIC-LOCATION:Europe/Berlin
BEGIN:DAYLIGHT
TZOFFSETFROM:+0100
TZOFFSETTO:+0200
TZNAME:CEST
DTSTART:19700329T020000
RRULE:FREQ=YEARLY;BYMONTH=3;BYDAY=-1SU
END:DAYLIGHT
BEGIN:STANDARD
TZOFFSETFROM:+0200
TZOFFSETTO:+0100
TZNAME:CET
DTSTART:19701025T030000
RRULE:FREQ=YEARLY;BYMONTH=10;BYDAY=-1SU
END:STANDARD
END:VTIMEZONE
BEGIN:VEVENT
UID:147315
LOCATION:* St. Georgenkirche Wismar
	* St.-Georgen-Kirchhof 
	* 23966 Wismar
SUMMARY:Sonntag KantateKantatengottesdienst in der St. Georgenkirche
um 11 Uhr
DESCRIPTION:mit der Bach- Kantate "Also hat Gott die Welt geliebt" (BWV 68), mit
dem Kantatenchor der Kantorei Wismar, Solisten und dem Collegium für
alte Musik Vorpommern. Predigt: Pi.R. Schmachtel musikalische Leitung:
Christian Thadewald-Friedrich Eintritt: frei (Spende wird erbeten)
Details unter: https://www.kirchenmusik-wismar.de
CLASS:PUBLIC
DTSTART:20260503T100000Z
DTEND:20260503T110000Z
DTSTAMP:20260503T100000Z
URL:https://www.kirche-mv.de/veranstaltung/147315
GEO:53.890791829804,11.460532244292
ORGANIZER:Kantorei Wismar
END:VEVENT
END:VCALENDAR
