BEGIN:VCALENDAR
VERSION:2.0
PRODID:89812
METHOD:PUBLISH
BEGIN:VTIMEZONE
TZID:Europe/Berlin
TZURL:http://tzurl.org/zoneinfo-outlook/Europe/Berlin
X-LIC-LOCATION:Europe/Berlin
BEGIN:DAYLIGHT
TZOFFSETFROM:+0100
TZOFFSETTO:+0200
TZNAME:CEST
DTSTART:19700329T020000
RRULE:FREQ=YEARLY;BYMONTH=3;BYDAY=-1SU
END:DAYLIGHT
BEGIN:STANDARD
TZOFFSETFROM:+0200
TZOFFSETTO:+0100
TZNAME:CET
DTSTART:19701025T030000
RRULE:FREQ=YEARLY;BYMONTH=10;BYDAY=-1SU
END:STANDARD
END:VTIMEZONE
BEGIN:VEVENT
UID:148718
LOCATION:* Markt Güstrow
	* Markt 1
	* 18273 Güstrow
SUMMARY:Stadtfestgottesdienst auf dem Marktplatz
DESCRIPTION:
CLASS:PUBLIC
DTSTART:20260614T090000Z
DTEND:20260614T100000Z
DTSTAMP:20260614T090000Z
URL:https://www.kirche-mv.de/veranstaltung/148718
GEO:53.793505912012,12.176585197449
END:VEVENT
END:VCALENDAR
