BEGIN:VCALENDAR
VERSION:2.0
PRODID:89812
METHOD:PUBLISH
BEGIN:VTIMEZONE
TZID:Europe/Berlin
TZURL:http://tzurl.org/zoneinfo-outlook/Europe/Berlin
X-LIC-LOCATION:Europe/Berlin
BEGIN:DAYLIGHT
TZOFFSETFROM:+0100
TZOFFSETTO:+0200
TZNAME:CEST
DTSTART:19700329T020000
RRULE:FREQ=YEARLY;BYMONTH=3;BYDAY=-1SU
END:DAYLIGHT
BEGIN:STANDARD
TZOFFSETFROM:+0200
TZOFFSETTO:+0100
TZNAME:CET
DTSTART:19701025T030000
RRULE:FREQ=YEARLY;BYMONTH=10;BYDAY=-1SU
END:STANDARD
END:VTIMEZONE
BEGIN:VEVENT
UID:149752
LOCATION:* Zelt auf der Festwiese Diedrichshagen
	* Dorfstraße Diedrichshagen 11
	* 23936 Rüting
SUMMARY:Christi Himmelfahrt - Zeltgottesdienst in Kastahn
DESCRIPTION:
CLASS:PUBLIC
DTSTART:20260514T090000Z
DTEND:20260514T100000Z
DTSTAMP:20260514T090000Z
URL:https://www.kirche-mv.de/veranstaltung/149752
GEO:53.803932959829,11.207385063171
END:VEVENT
END:VCALENDAR
