BEGIN:VCALENDAR
VERSION:2.0
PRODID:89812
METHOD:PUBLISH
BEGIN:VTIMEZONE
TZID:Europe/Berlin
TZURL:http://tzurl.org/zoneinfo-outlook/Europe/Berlin
X-LIC-LOCATION:Europe/Berlin
BEGIN:DAYLIGHT
TZOFFSETFROM:+0100
TZOFFSETTO:+0200
TZNAME:CEST
DTSTART:19700329T020000
RRULE:FREQ=YEARLY;BYMONTH=3;BYDAY=-1SU
END:DAYLIGHT
BEGIN:STANDARD
TZOFFSETFROM:+0200
TZOFFSETTO:+0100
TZNAME:CET
DTSTART:19701025T030000
RRULE:FREQ=YEARLY;BYMONTH=10;BYDAY=-1SU
END:STANDARD
END:VTIMEZONE
BEGIN:VEVENT
UID:149754
LOCATION:* Boltenhagen Strandaufgang 3
	* 
	* 23946 Boltenhagen
SUMMARY:Pfingstmontag - Regionalgottesdienstam Strand in Boltenhagen
DESCRIPTION:Spaziergottesdienst am Strand Zu Pfingsten entsteht zum ersten Mal ein
Strandweg am Strand von Boltenhagen. „Ganz begeistert“ lautet das
Motto. Dazu werden am Boltenhagener Strand zwischen Strandaufgang 3
und der Seebrücke sieben Stationen aufgebaut. Alle 150 Meter steht
ein Schild im DIN-A3-Format; darauf befinden sich ein Bild, ein
kleiner Text, ein Denkanstoß, ein Lied… Der Strandweg lädt dazu
ein, beim pfingstlichen Strandspaziergang seinen eigenen Gottesdienst
zu begehen. Man kann das auch mit anderen gemeinsam tun: Pastorin
Kirsten Hoffmann-Busch lädt am Pfingstmontag, 25. Mai, um 11 Uhr zu
einem „Spaziergottesdienst“ entlang des Strandweges ein.
Treffpunkt ist am Strandaufgang 3 in Boltenhagen.
CLASS:PUBLIC
DTSTART:20260525T100000Z
DTEND:20260525T110000Z
DTSTAMP:20260525T100000Z
URL:https://www.kirche-mv.de/veranstaltung/149754
GEO:53.989719725733,11.202638499028
END:VEVENT
END:VCALENDAR
