BEGIN:VCALENDAR
VERSION:2.0
PRODID:89812
METHOD:PUBLISH
BEGIN:VTIMEZONE
TZID:Europe/Berlin
TZURL:http://tzurl.org/zoneinfo-outlook/Europe/Berlin
X-LIC-LOCATION:Europe/Berlin
BEGIN:DAYLIGHT
TZOFFSETFROM:+0100
TZOFFSETTO:+0200
TZNAME:CEST
DTSTART:19700329T020000
RRULE:FREQ=YEARLY;BYMONTH=3;BYDAY=-1SU
END:DAYLIGHT
BEGIN:STANDARD
TZOFFSETFROM:+0200
TZOFFSETTO:+0100
TZNAME:CET
DTSTART:19701025T030000
RRULE:FREQ=YEARLY;BYMONTH=10;BYDAY=-1SU
END:STANDARD
END:VTIMEZONE
BEGIN:VEVENT
UID:149246
LOCATION:* Busbahnhof Grevesmühlen
	* Am Bahnhof 
	* 23936 Grevesmühlen
SUMMARY:Pilgern am anderen OrtTreffpunkt 9.20 Uhr am Busbahnhof
Grevesmühlen
DESCRIPTION:Wir pilgern von Neukloster nach Tempzin. Die Gesamtstrecke beträgt ca
20km. Die Fahrtkosten übernimmt die Kirchengemeinde, Essen und
Getränke packen Sie bitte selbst ein. Treffpunkt: 9.20 Uhr am
Busbahnhof Grevesmühlen. Weitere Infos und Anmeldung: 03881-2524
CLASS:PUBLIC
DTSTART:20260426T081500Z
DTEND:20260426T181500Z
DTSTAMP:20260426T081500Z
URL:https://www.kirche-mv.de/veranstaltung/149246
GEO:53.8584883,11.1848074
END:VEVENT
END:VCALENDAR
