BEGIN:VCALENDAR
VERSION:2.0
PRODID:89812
METHOD:PUBLISH
BEGIN:VTIMEZONE
TZID:Europe/Berlin
TZURL:http://tzurl.org/zoneinfo-outlook/Europe/Berlin
X-LIC-LOCATION:Europe/Berlin
BEGIN:DAYLIGHT
TZOFFSETFROM:+0100
TZOFFSETTO:+0200
TZNAME:CEST
DTSTART:19700329T020000
RRULE:FREQ=YEARLY;BYMONTH=3;BYDAY=-1SU
END:DAYLIGHT
BEGIN:STANDARD
TZOFFSETFROM:+0200
TZOFFSETTO:+0100
TZNAME:CET
DTSTART:19701025T030000
RRULE:FREQ=YEARLY;BYMONTH=10;BYDAY=-1SU
END:STANDARD
END:VTIMEZONE
BEGIN:VEVENT
UID:145220
LOCATION:* Dobbiner Eiche
	* 
	* 19399 Dobbertin
SUMMARY:Gemeinsamer musikalischer Gottesdienst an Himmelfahrt,
anschließend Picknick
DESCRIPTION:Dobbin. Der Gottesdienst unter der Eiche in Dobbin wird mir langsam zu
einer traditionellen Veranstaltung im Jahr, auf die ich mich zunehmend
freue: In der erwachenden Natur - die Blätter sind noch zart ihre
Farbe frisch und leuchtend - finden sich langsam die Menschen zusammen
- zu Fuß, mit dem Fahrrad oder dem Auto. Die Bläser nehmen
Aufstellung und bereiten ihre Instrumente vor, die Stühle werden
ausgeladen, die Bänke beginnen sich zu füllen und eine
erwartungsfrohe Stimmung breit sich macht - und vom anschließenden
Picknick ganz zu schweigen... Ein schöner Start in einen besonderen
Tag im Jahr, dort in Dobbin unter der Eiche - Himmelfahrt um 10 Uhr.
(Christian Banek)
CLASS:PUBLIC
DTSTART:20260514T090000Z
DTEND:20260514T100000Z
DTSTAMP:20260514T090000Z
URL:https://www.kirche-mv.de/veranstaltung/145220
GEO:53.625222746726,12.02627772165
ORGANIZER:Kirchengemeinden der Region "Kirchen um Goldberg"
END:VEVENT
END:VCALENDAR
