BEGIN:VCALENDAR
VERSION:2.0
PRODID:89812
METHOD:PUBLISH
BEGIN:VTIMEZONE
TZID:Europe/Berlin
TZURL:http://tzurl.org/zoneinfo-outlook/Europe/Berlin
X-LIC-LOCATION:Europe/Berlin
BEGIN:DAYLIGHT
TZOFFSETFROM:+0100
TZOFFSETTO:+0200
TZNAME:CEST
DTSTART:19700329T020000
RRULE:FREQ=YEARLY;BYMONTH=3;BYDAY=-1SU
END:DAYLIGHT
BEGIN:STANDARD
TZOFFSETFROM:+0200
TZOFFSETTO:+0100
TZNAME:CET
DTSTART:19701025T030000
RRULE:FREQ=YEARLY;BYMONTH=10;BYDAY=-1SU
END:STANDARD
END:VTIMEZONE
BEGIN:VEVENT
UID:148837
LOCATION:* Schützenplatz
	* Schützenplatz 
	* 19399 Goldberg
SUMMARY:RadRundFahrt um den Goldberger See
DESCRIPTION:Herzlich willkommen zur traditionellen Radrundfahrt rund um den
Goldberger See. Start ist um 18 Uhr am Schützenplatz. Zum Abschluss
lassen wir den Abend am Badestrand bei Musik, leckerem Essen und
erfrischenden Getränken ausklingen.
CLASS:PUBLIC
DTSTART:20260430T170000Z
DTEND:20260430T180000Z
DTSTAMP:20260430T170000Z
URL:https://www.kirche-mv.de/veranstaltung/148837
GEO:53.5890775,12.0906723
ORGANIZER:Kirchengemeinde Goldberg-Dobbertin
END:VEVENT
END:VCALENDAR
