BEGIN:VCALENDAR
VERSION:2.0
PRODID:89812
METHOD:PUBLISH
BEGIN:VTIMEZONE
TZID:Europe/Berlin
TZURL:http://tzurl.org/zoneinfo-outlook/Europe/Berlin
X-LIC-LOCATION:Europe/Berlin
BEGIN:DAYLIGHT
TZOFFSETFROM:+0100
TZOFFSETTO:+0200
TZNAME:CEST
DTSTART:19700329T020000
RRULE:FREQ=YEARLY;BYMONTH=3;BYDAY=-1SU
END:DAYLIGHT
BEGIN:STANDARD
TZOFFSETFROM:+0200
TZOFFSETTO:+0100
TZNAME:CET
DTSTART:19701025T030000
RRULE:FREQ=YEARLY;BYMONTH=10;BYDAY=-1SU
END:STANDARD
END:VTIMEZONE
BEGIN:VEVENT
UID:147168
LOCATION:* Kirche Basedow
	* Kirchsteig 12
	* 17139 Basedow
SUMMARY:Konzert - Sonne - Ob es die wirklich gibt? Eine Hoffnungssuche
DESCRIPTION:Konzert für Barockgeige, Orgel u. Gesang, Eintritt frei, Spenden
willkommen Texte von Gertrud Kolmar, Musik von Bach, Albert und
Pachelbel Rosa Krullmann - Barockgeige Lukas Stoffregen - Gesang Ole
Kirchberg - Orgel
CLASS:PUBLIC
DTSTART:20260510T153000Z
DTEND:20260510T163000Z
DTSTAMP:20260510T153000Z
URL:https://www.kirche-mv.de/veranstaltung/147168
GEO:53.695915630258,12.678806819235
END:VEVENT
END:VCALENDAR
