BEGIN:VCALENDAR
VERSION:2.0
PRODID:89812
METHOD:PUBLISH
BEGIN:VTIMEZONE
TZID:Europe/Berlin
TZURL:http://tzurl.org/zoneinfo-outlook/Europe/Berlin
X-LIC-LOCATION:Europe/Berlin
BEGIN:DAYLIGHT
TZOFFSETFROM:+0100
TZOFFSETTO:+0200
TZNAME:CEST
DTSTART:19700329T020000
RRULE:FREQ=YEARLY;BYMONTH=3;BYDAY=-1SU
END:DAYLIGHT
BEGIN:STANDARD
TZOFFSETFROM:+0200
TZOFFSETTO:+0100
TZNAME:CET
DTSTART:19701025T030000
RRULE:FREQ=YEARLY;BYMONTH=10;BYDAY=-1SU
END:STANDARD
END:VTIMEZONE
BEGIN:VEVENT
UID:149024
LOCATION:* Kirche Stralendorf
	* Zum Winkel 
	* 19073 Stralendorf
SUMMARY:HimmelfahrtFamiliengottesdienst
DESCRIPTION:Radtour mit regionaler Andacht zum Himmelfahrtstag Seit 2014 laden wir
Sie zu Himmelfahrt zu einer Andacht nach Stralendorf ein. So auch in
diesem Jahr. Das Besondere daran ist immer, dass es für
Radfahrbegeisterte mit einem Fahrradausflug beginnt. In Wittenförden
ist Treffpunkt um 10.00 Uhr an der Kirche. Aus den Gemeindebereichen
Pam-pow/Sülstorf, Uelitz und Gammelin/ Warsow/Parum werden wir
sternenförmig auf die Stralendorfer Kirche zufahren und dort
gemeinsam feiern. Bitte bringen Sie etwas zu Essen mit, denn im
Anschluss an die Andacht wollen wir gemeinsam vor der Kirche wieder
picknicken.
CLASS:PUBLIC
DTSTART:20260514T100000Z
DTEND:20260514T110000Z
DTSTAMP:20260514T100000Z
URL:https://www.kirche-mv.de/veranstaltung/149024
GEO:53.575234927403,11.298955900139
END:VEVENT
END:VCALENDAR
