BEGIN:VCALENDAR
VERSION:2.0
PRODID:89812
METHOD:PUBLISH
BEGIN:VTIMEZONE
TZID:Europe/Berlin
TZURL:http://tzurl.org/zoneinfo-outlook/Europe/Berlin
X-LIC-LOCATION:Europe/Berlin
BEGIN:DAYLIGHT
TZOFFSETFROM:+0100
TZOFFSETTO:+0200
TZNAME:CEST
DTSTART:19700329T020000
RRULE:FREQ=YEARLY;BYMONTH=3;BYDAY=-1SU
END:DAYLIGHT
BEGIN:STANDARD
TZOFFSETFROM:+0200
TZOFFSETTO:+0100
TZNAME:CET
DTSTART:19701025T030000
RRULE:FREQ=YEARLY;BYMONTH=10;BYDAY=-1SU
END:STANDARD
END:VTIMEZONE
BEGIN:VEVENT
UID:149455
LOCATION:* Pfarrhaus Uelitz
	* Grüne Straße 5
	* 19077 Uelitz
SUMMARY:Kaffeeklatsch am KaminDer Schriftsteller Kuno Karls aus
Hagenow liest und erzählt interessante Begebenheiten und Anekdoten
aus Hagenow und Umgebung.
DESCRIPTION:
CLASS:PUBLIC
DTSTART:20260426T140000Z
DTEND:20260426T150000Z
DTSTAMP:20260426T140000Z
URL:https://www.kirche-mv.de/veranstaltung/149455
GEO:53.4757627,11.436931317121
END:VEVENT
END:VCALENDAR
