BEGIN:VCALENDAR
VERSION:2.0
PRODID:89812
METHOD:PUBLISH
BEGIN:VTIMEZONE
TZID:Europe/Berlin
TZURL:http://tzurl.org/zoneinfo-outlook/Europe/Berlin
X-LIC-LOCATION:Europe/Berlin
BEGIN:DAYLIGHT
TZOFFSETFROM:+0100
TZOFFSETTO:+0200
TZNAME:CEST
DTSTART:19700329T020000
RRULE:FREQ=YEARLY;BYMONTH=3;BYDAY=-1SU
END:DAYLIGHT
BEGIN:STANDARD
TZOFFSETFROM:+0200
TZOFFSETTO:+0100
TZNAME:CET
DTSTART:19701025T030000
RRULE:FREQ=YEARLY;BYMONTH=10;BYDAY=-1SU
END:STANDARD
END:VTIMEZONE
BEGIN:VEVENT
UID:149685
LOCATION:* Werkstatthalle Car Service Point
	* Bahnhofstraße 44d
	* 17489 Greifswald
SUMMARY:Drehmoment – Abende für MännerMit Arno Backhaus - Vom
Chaoskind zum Lebenskünstler
DESCRIPTION:DREHMOMENT - Abende für Männer! Dieses Mal mit Arno Backhaus: Vom
Chaoskind zum Lebenskünstler Arno Backhaus wurde während seiner
Schulzeit in Kassel von vier Schulen verwiesen und musste dreimal ein
Schuljahr wiederholen… damit beginnt der Wikipedia-Beitrag über
unseren Gast. Seine Biographie ist alles andere als geradlinig und
angepasst: Arno Backhaus blickt zurück auf über 50 Jahre als
Liedermacher (Arno&Andreas), Autor zahlreicher Bücher und als
Aktionskünstler. Legendär sind die außergewöhnlichen
Straßenaktionen, mit denen der selbsternannte E-fun-gelist und
Missio-Narr schon viele Menschen über Gott ins Gespräch gebracht
hat. In den letzten Jahren ist es ihm außerdem ein Anliegen geworden,
über ADHS aufzuklären und dem kreativen Potential mehr Beachtung zu
schenken. Wir freuen uns auf diesen Abend und sind gespannt auf das,
was uns Arno Backhaus über die Drehmomente seines Lebens erzählt.
Drehmoment ist eine Veranstaltungsreihe für Männer, organisiert von
Mitgliedern verschiedener Greifswalder Kirchengemeinden. Die Abende
finden in der KFZ-Werkstatthalle in der Bahnhofstr. 44d (am EKZ
Gleis4) statt. Der Eintritt ist frei! Für Essen und Getränke ist
gesorgt. Wir freuen uns über Spenden.
CLASS:PUBLIC
DTSTART:20260529T190000Z
DTEND:20260529T220000Z
DTSTAMP:20260529T190000Z
URL:https://www.kirche-mv.de/veranstaltung/149685
GEO:54.0927632,13.3737441
ORGANIZER:OJC e.V. in Greifswald
END:VEVENT
END:VCALENDAR
