BEGIN:VCALENDAR
VERSION:2.0
PRODID:89812
METHOD:PUBLISH
BEGIN:VTIMEZONE
TZID:Europe/Berlin
TZURL:http://tzurl.org/zoneinfo-outlook/Europe/Berlin
X-LIC-LOCATION:Europe/Berlin
BEGIN:DAYLIGHT
TZOFFSETFROM:+0100
TZOFFSETTO:+0200
TZNAME:CEST
DTSTART:19700329T020000
RRULE:FREQ=YEARLY;BYMONTH=3;BYDAY=-1SU
END:DAYLIGHT
BEGIN:STANDARD
TZOFFSETFROM:+0200
TZOFFSETTO:+0100
TZNAME:CET
DTSTART:19701025T030000
RRULE:FREQ=YEARLY;BYMONTH=10;BYDAY=-1SU
END:STANDARD
END:VTIMEZONE
BEGIN:VEVENT
UID:143780
LOCATION:* Gemeinderaum Rödlin
	* Blankenseer Straße 34
	* 17237 Blankensee
SUMMARY:Osterbasteln in Rödlin
DESCRIPTION:Osterbasteln in Rödlin, 14.03.2026, 10.00 Uhr Rödlin Pfarrhaus Damit
große und kleine Kinder zum Osterfest wieder süße Dinge rund um
unsere Kirchen suchen können, basteln wir Osterkörbchen für die
ganze Gemeinde. Cindy Borgwardt und Eva Stüben haben eine Bastelidee
im Gepäck und freuen sich über helfende Hände, gerne auch über
Kinderhände. Großer Tipp: Für alle Kinder gibt es auch schöne
frühlingshafte Dinge zu basteln. Das solltet ihr nicht verpassen!
Wenn Sie die Osterkörbchenaktion unterstützen möchten, freuen wir
uns wie jedes Jahr über Süßigkeitenspenden.
CLASS:PUBLIC
DTSTART:20260314T090000Z
DTEND:20260314T100000Z
DTSTAMP:20260314T090000Z
URL:https://www.kirche-mv.de/veranstaltung/143780
GEO:53.3943167,13.2288671
ORGANIZER:Ev.-Luth. Kirchengemeinde Wanzka
END:VEVENT
END:VCALENDAR
