BEGIN:VCALENDAR
VERSION:2.0
PRODID:89812
METHOD:PUBLISH
BEGIN:VTIMEZONE
TZID:Europe/Berlin
TZURL:http://tzurl.org/zoneinfo-outlook/Europe/Berlin
X-LIC-LOCATION:Europe/Berlin
BEGIN:DAYLIGHT
TZOFFSETFROM:+0100
TZOFFSETTO:+0200
TZNAME:CEST
DTSTART:19700329T020000
RRULE:FREQ=YEARLY;BYMONTH=3;BYDAY=-1SU
END:DAYLIGHT
BEGIN:STANDARD
TZOFFSETFROM:+0200
TZOFFSETTO:+0100
TZNAME:CET
DTSTART:19701025T030000
RRULE:FREQ=YEARLY;BYMONTH=10;BYDAY=-1SU
END:STANDARD
END:VTIMEZONE
BEGIN:VEVENT
UID:132375
LOCATION:* St. Marienkirche Wesenberg
	* Hohe Straße 
	* 17255 Wesenberg
SUMMARY:Singwanderung des Rostocker Choralchors der
St.-Johannis-Kirche
DESCRIPTION:Singwanderung des Rostocker Choralchors der St.-Johannis-Kirche
26.07.2025, 19.30 Uhr, Kirche Burg Stargard 27. 07.2025, 19.30 Uhr,
Kirche Woldegk 28.07.2025, 19.30 Uhr, Kirche Feldberg 29.07.2025,
19.30 Uhr, Kirche Wanzka 30.07.2025, 19.30 Uhr, Stadtkirche
Neustrelitz 31. 07.2025, 19.30 Uhr, Stadtkirche St. Marien Wesenberg
01.08.2025, 19.30 Uhr, Stadtkirche Fürstenberg/Havel Die diesjährige
Singwanderung des Choralchors führt durch die Mecklenburger
Seenplatte und wir freuen uns, den Chor an zwei Abenden in unserer
Kirchengemeinde zu Gast zu haben. Der Choralchor ist der Jugendchor
der St.-Johannis-Kirche Rostock. Die ca. 50 Mitglieder im Alter
zwischen 13 und 20 Jahren bleiben etwa sieben Jahre im Choralchor –
eine Zeit, welche sie nachhaltig prägt. Bei Gottesdiensten und
Abendmusiken ernten sie große Anerkennung in der Öffentlichkeit.
Äußerst beliebt ist die jährliche Singwanderung durch das
sommerliche Mecklenburg. Eine Woche lang wandern die Jugendlichen
täglich bis zu 25 km, um am Abend in einer der vielen Dorf- oder
Kleinstadtkirchen zu musizieren. Die Unmittelbarkeit der Natur, die
Zeit für intensive Gespräche, das soziale Miteinander beim Wandern
und in den Abendmusiken sind Erlebnisse, die das Leben der
Chormitglieder nachhaltig prägen. In diesem Jahr führt ihr Weg am
dritten Tag der Wanderung nach Feldberg, wo der Chor am Montag, dem
28. Juli 2025 um 19.30 Uhr in der Stadtkirche singt. Am vierten Tag
wandert der Chor nach Wanzka, wo er am Dienstag, dem 29. Juli 2025, um
19.30 Uhr in der Klosterkirche auftritt. Der Chor singt unter der
Leitung von KMD Prof. Markus Johannes Langer. Komponisten aus alter
und neuer Zeit schrieben die Musik, die der Chor singt. So erklingt in
diesem Jahr ein Psalmenprogramm mit Werken von Schütz, Bach und
Mendelssohn. Der Chor wird von Solisten und einem kleinen Orchester,
das überwiegend aus Mitgliedern des Chores besteht, begleitet. Die
Aufführungen großer Oratorien und die Durchführung von
Kindersingwochen sind mit erheblichen finanziellen Aufwendungen
verbunden: Trotz des Einsatzes der vielen Chormitglieder, die
Idealismus, Zeit und Geld investieren, können die Kosten für das
Musizieren und den organisatori schen Aufwand nicht gedeckt werden.
Die Hilfe von Freunden und Förderern ist dringend nötig, um die
Arbeit der Kantorei in vollem Umfang aufrechtzuerhalten. Unser
Freundeskreis unterstützt die musikalische und organisatorische
Arbeit der St.-Johannis- Kantorei. Wir laden Sie ein, Mitglied im
Freundes-kreis der St.-Johannis-Kantorei Rostock zu werden und unser
Wirken und die vielfältigen Aktivitäten durch einen regelmäßigen,
selbst bestimmten finanziellen Beitrag zu unterstützen. Wir freuen
uns auch über Spenden von Nichtmitgliedern. Gern stellen wir allen
Spendern auf Wunsch eine Spendenbescheinigung aus. Adresse für
Mitgliedschaft im Freundeskreis: Freundeskreis der
St.-Johannis-Kantorei Rostock e.V. Tiergartenallee 4 18059 Rostock
Spendenkonto: Freundeskreis St.-Johannis IBAN DE58 1406 1308 0003 6379
80 BIC GENODEF1GUE
CLASS:PUBLIC
DTSTART:20250731T183000Z
DTEND:20250731T193000Z
DTSTAMP:20250731T183000Z
URL:https://www.kirche-mv.de/veranstaltung/132375
GEO:53.281418700761,12.969313147098
ORGANIZER:Ev.-Luth. Kirchengemeinde Wesenberg und Schillersdorf
END:VEVENT
END:VCALENDAR
