BEGIN:VCALENDAR
VERSION:2.0
PRODID:89812
METHOD:PUBLISH
BEGIN:VTIMEZONE
TZID:Europe/Berlin
TZURL:http://tzurl.org/zoneinfo-outlook/Europe/Berlin
X-LIC-LOCATION:Europe/Berlin
BEGIN:DAYLIGHT
TZOFFSETFROM:+0100
TZOFFSETTO:+0200
TZNAME:CEST
DTSTART:19700329T020000
RRULE:FREQ=YEARLY;BYMONTH=3;BYDAY=-1SU
END:DAYLIGHT
BEGIN:STANDARD
TZOFFSETFROM:+0200
TZOFFSETTO:+0100
TZNAME:CET
DTSTART:19701025T030000
RRULE:FREQ=YEARLY;BYMONTH=10;BYDAY=-1SU
END:STANDARD
END:VTIMEZONE
BEGIN:VEVENT
UID:130225
LOCATION:* Sankt Johannes Kirche Rerik
	* Dünenstraße 7
	* 18230 Rerik
SUMMARY:Offenes Singen für Einheimische und Gäste
DESCRIPTION:Wer sich das Singen im Chor (noch) nicht zutraut oder sich nicht zu
regelmäßigen Proben und Auftritten verpflichten kann oder möchte,
kann erst einmal folgendes Angebot wahrnehmen: Ein erstes „Offenes
Singen“ für Einheimische und Gäste soll am Sonnabend, 19. Juli um
19 Uhr in der Reriker Kirche stattfinden. In lockerer Atmosphäre
werden – je nach Teilnehmerzahl- Kanons, Choräle, Gospels und auch
weltliche Lieder gesungen, die dann am nächsten Tag im
Sonntagsgottesdienst erklingen.
CLASS:PUBLIC
DTSTART:20250719T180000Z
DTEND:20250719T190000Z
DTSTAMP:20250719T180000Z
URL:https://www.kirche-mv.de/veranstaltung/130225
GEO:54.105401582042,11.61174285886
END:VEVENT
END:VCALENDAR
