BEGIN:VCALENDAR
VERSION:2.0
PRODID:89812
METHOD:PUBLISH
BEGIN:VTIMEZONE
TZID:Europe/Berlin
TZURL:http://tzurl.org/zoneinfo-outlook/Europe/Berlin
X-LIC-LOCATION:Europe/Berlin
BEGIN:DAYLIGHT
TZOFFSETFROM:+0100
TZOFFSETTO:+0200
TZNAME:CEST
DTSTART:19700329T020000
RRULE:FREQ=YEARLY;BYMONTH=3;BYDAY=-1SU
END:DAYLIGHT
BEGIN:STANDARD
TZOFFSETFROM:+0200
TZOFFSETTO:+0100
TZNAME:CET
DTSTART:19701025T030000
RRULE:FREQ=YEARLY;BYMONTH=10;BYDAY=-1SU
END:STANDARD
END:VTIMEZONE
BEGIN:VEVENT
UID:124584
LOCATION:* Pfarrhaus Goldberg
	* Kirchenstraße 23
	* 19399 Goldberg
SUMMARY:Osterfeuer am Ostermontag
DESCRIPTION:
CLASS:PUBLIC
DTSTART:20250421T150000Z
DTEND:20250421T160000Z
DTSTAMP:20250421T150000Z
URL:https://www.kirche-mv.de/veranstaltung/124584
GEO:53.590311036875,12.086521983147
ORGANIZER:Kirchengemeinde Goldberg-Dobbertin
END:VEVENT
END:VCALENDAR
