BEGIN:VCALENDAR
VERSION:2.0
PRODID:89812
METHOD:PUBLISH
BEGIN:VTIMEZONE
TZID:Europe/Berlin
TZURL:http://tzurl.org/zoneinfo-outlook/Europe/Berlin
X-LIC-LOCATION:Europe/Berlin
BEGIN:DAYLIGHT
TZOFFSETFROM:+0100
TZOFFSETTO:+0200
TZNAME:CEST
DTSTART:19700329T020000
RRULE:FREQ=YEARLY;BYMONTH=3;BYDAY=-1SU
END:DAYLIGHT
BEGIN:STANDARD
TZOFFSETFROM:+0200
TZOFFSETTO:+0100
TZNAME:CET
DTSTART:19701025T030000
RRULE:FREQ=YEARLY;BYMONTH=10;BYDAY=-1SU
END:STANDARD
END:VTIMEZONE
BEGIN:VEVENT
UID:146559
LOCATION:* Marienkirche
	* Kirchplatz 
	* 18528 Bergen auf Rügen
SUMMARY:KirchenputzKirchenputz
DESCRIPTION:Am Samstag, dem 25. April, wollen wir in der Zeit von 09.30 - 12 Uhr
und von 13 - 15 Uhr putzen. Von 12-13 Uhr gibt es einen Imbiss im
Gemeindehaus.
CLASS:PUBLIC
DTSTART:20260425T083000Z
DTEND:20260425T140000Z
DTSTAMP:20260425T083000Z
URL:https://www.kirche-mv.de/veranstaltung/146559
GEO:54.417188240852,13.432056993593
END:VEVENT
END:VCALENDAR
