BEGIN:VCALENDAR
VERSION:2.0
PRODID:89812
METHOD:PUBLISH
BEGIN:VTIMEZONE
TZID:Europe/Berlin
TZURL:http://tzurl.org/zoneinfo-outlook/Europe/Berlin
X-LIC-LOCATION:Europe/Berlin
BEGIN:DAYLIGHT
TZOFFSETFROM:+0100
TZOFFSETTO:+0200
TZNAME:CEST
DTSTART:19700329T020000
RRULE:FREQ=YEARLY;BYMONTH=3;BYDAY=-1SU
END:DAYLIGHT
BEGIN:STANDARD
TZOFFSETFROM:+0200
TZOFFSETTO:+0100
TZNAME:CET
DTSTART:19701025T030000
RRULE:FREQ=YEARLY;BYMONTH=10;BYDAY=-1SU
END:STANDARD
END:VTIMEZONE
BEGIN:VEVENT
UID:116928
LOCATION:* Ev. Pfarrhaus Marlow
	* Bei der Kirche 9
	* 18337 Marlow
SUMMARY:Konfi Treff 24-26Gemeinsam auf Entdeckungstour!
DESCRIPTION:Hier treffen sich Jugendliche aus Marlow und aus den Kirchengemeinden
Kölzow und Bad Sülze. Eine Zugehörigkeit zur Kirche ist keine
Voraussetzung, Neugierde und Interesse sind gute Gründe vorbei zu
schauen. Immer 14 tägig von 17.15 bis 18.15 Uhr im Pfarrhaus Marlow.
Infos unter: peter.michalik@elkm.de
CLASS:PUBLIC
DTSTART:20241126T161500Z
DTEND:20241126T171500Z
DTSTAMP:20241126T161500Z
URL:https://www.kirche-mv.de/veranstaltung/116928
GEO:54.15413925,12.571727978022
END:VEVENT
END:VCALENDAR
