BEGIN:VCALENDAR
VERSION:2.0
PRODID:89812
METHOD:PUBLISH
BEGIN:VTIMEZONE
TZID:Europe/Berlin
TZURL:http://tzurl.org/zoneinfo-outlook/Europe/Berlin
X-LIC-LOCATION:Europe/Berlin
BEGIN:DAYLIGHT
TZOFFSETFROM:+0100
TZOFFSETTO:+0200
TZNAME:CEST
DTSTART:19700329T020000
RRULE:FREQ=YEARLY;BYMONTH=3;BYDAY=-1SU
END:DAYLIGHT
BEGIN:STANDARD
TZOFFSETFROM:+0200
TZOFFSETTO:+0100
TZNAME:CET
DTSTART:19701025T030000
RRULE:FREQ=YEARLY;BYMONTH=10;BYDAY=-1SU
END:STANDARD
END:VTIMEZONE
BEGIN:VEVENT
UID:146560
LOCATION:* Natur
	* 18574 Garz/Rügen
SUMMARY:Pilgern mit KindernPilgern mit Kindern
DESCRIPTION:Wir gehen gemeinsam einen Weg bei Garz, auf dem es viel zu entdecken
gibt! Es sind alle Kinder von der 1. - 6. Klasse herzlich eingeladen!
Packt euch genügend Getränke und Essen ein. Rückfragen und
Anmeldungen bis 18. April 2026 bei Cornelius Bach.
CLASS:PUBLIC
DTSTART:20260425T083000Z
DTEND:20260425T140000Z
DTSTAMP:20260425T083000Z
URL:https://www.kirche-mv.de/veranstaltung/146560
GEO:54.3237431,13.3598535
END:VEVENT
END:VCALENDAR
