BEGIN:VCALENDAR
VERSION:2.0
PRODID:89812
METHOD:PUBLISH
BEGIN:VTIMEZONE
TZID:Europe/Berlin
TZURL:http://tzurl.org/zoneinfo-outlook/Europe/Berlin
X-LIC-LOCATION:Europe/Berlin
BEGIN:DAYLIGHT
TZOFFSETFROM:+0100
TZOFFSETTO:+0200
TZNAME:CEST
DTSTART:19700329T020000
RRULE:FREQ=YEARLY;BYMONTH=3;BYDAY=-1SU
END:DAYLIGHT
BEGIN:STANDARD
TZOFFSETFROM:+0200
TZOFFSETTO:+0100
TZNAME:CET
DTSTART:19701025T030000
RRULE:FREQ=YEARLY;BYMONTH=10;BYDAY=-1SU
END:STANDARD
END:VTIMEZONE
BEGIN:VEVENT
UID:148025
LOCATION:Christliches Altenheim "Haus Elim", Wenbergstr.50, 19089 Crivitz
SUMMARY:Gottesdienst im Haus Elim
DESCRIPTION:
CLASS:PUBLIC
DTSTART:20260513T141500Z
DTEND:20260513T151500Z
DTSTAMP:20260513T141500Z
URL:https://www.kirche-mv.de/veranstaltung/148025
ORGANIZER:Ev.-Luth. Kirchengemeinde Crivitz
END:VEVENT
END:VCALENDAR
