BEGIN:VCALENDAR
VERSION:2.0
PRODID:89812
METHOD:PUBLISH
BEGIN:VTIMEZONE
TZID:Europe/Berlin
TZURL:http://tzurl.org/zoneinfo-outlook/Europe/Berlin
X-LIC-LOCATION:Europe/Berlin
BEGIN:DAYLIGHT
TZOFFSETFROM:+0100
TZOFFSETTO:+0200
TZNAME:CEST
DTSTART:19700329T020000
RRULE:FREQ=YEARLY;BYMONTH=3;BYDAY=-1SU
END:DAYLIGHT
BEGIN:STANDARD
TZOFFSETFROM:+0200
TZOFFSETTO:+0100
TZNAME:CET
DTSTART:19701025T030000
RRULE:FREQ=YEARLY;BYMONTH=10;BYDAY=-1SU
END:STANDARD
END:VTIMEZONE
BEGIN:VEVENT
UID:148026
LOCATION:* Dorfkirche Kladow
	* Am Kirchberg 
	* 19089 Crivitz
SUMMARY:Gottesdienst zu Himmelfahrtmit anschließendem Picknick
DESCRIPTION:Reiner geht in Rente
CLASS:PUBLIC
DTSTART:20260514T100000Z
DTEND:20260514T110000Z
DTSTAMP:20260514T100000Z
URL:https://www.kirche-mv.de/veranstaltung/148026
GEO:53.613647059429,11.603386822448
ORGANIZER:Ev.-Luth. Kirchengemeinde Crivitz
END:VEVENT
END:VCALENDAR
